BEGIN:VCALENDAR
VERSION:2.0
PRODID:-//Bliss Diamond Personal Guru - ECPv6.15.20//NONSGML v1.0//EN
CALSCALE:GREGORIAN
METHOD:PUBLISH
X-ORIGINAL-URL:https://blissdiamond.guru
X-WR-CALDESC:Events for Bliss Diamond Personal Guru
REFRESH-INTERVAL;VALUE=DURATION:PT1H
X-Robots-Tag:noindex
X-PUBLISHED-TTL:PT1H
BEGIN:VTIMEZONE
TZID:UTC
BEGIN:STANDARD
TZOFFSETFROM:+0000
TZOFFSETTO:+0000
TZNAME:UTC
DTSTART:20160101T000000
END:STANDARD
END:VTIMEZONE
BEGIN:VEVENT
DTSTART;VALUE=DATE:20170620
DTEND;VALUE=DATE:20170623
DTSTAMP:20260424T165550
CREATED:20170610T184739Z
LAST-MODIFIED:20170610T201451Z
UID:373-1497916800-1498175999@blissdiamond.guru
SUMMARY:Spiritual Living Retreat
DESCRIPTION:Learn how to transform your daily living from a mundane grind to a peaceful process of productive\, blissful living. \nThree blissful days in the Colorado Rockies. \nAccommodations include HOUSING\, ALL MEALS and access to MINERAL HOT SPRINGS\, as well as comprehensive hands on  (group and individual) instruction and/or personal pampering sessions in the following: \nJuicing \nHealthy Cooking\, Food Prep and Storage \nGrounding \nDetoxification of Mind\, Body and Soul \nKundalini Awakening \nFlow/ Time Management \nBody Scanning \nYoga \nSelf and Partner Massage Techniques \nPrimal Access \nPast Life Exploration \nSpiritual Mapping \nRelationship Coaching \nProper Prayer/Meditation techniques for Reaching Source \nAttunment and Connecting with Spirit Guides \nDrumming and Dance \nGrief Work \nTrauma Release \nIntuitive Development \nPeaceful Parenting Practices for Maintaining Power and Intimacy\, as well as Avoiding Burn Out. \n  \nTRANSPORTATION IS NOT INCLUDED \nMountain Biking\, Hiking\, Zip Lining\, White Water Rafting are available at extra cost. \n  \n  \n  \n 
URL:https://blissdiamond.guru/event/373/
END:VEVENT
END:VCALENDAR